BEGIN:VCALENDAR
VERSION:2.0
PRODID:-//Lost Key Golf Club - ECPv6.15.18//NONSGML v1.0//EN
CALSCALE:GREGORIAN
METHOD:PUBLISH
X-ORIGINAL-URL:https://www.lostkeygolf.com
X-WR-CALDESC:Events for Lost Key Golf Club
REFRESH-INTERVAL;VALUE=DURATION:PT1H
X-Robots-Tag:noindex
X-PUBLISHED-TTL:PT1H
BEGIN:VTIMEZONE
TZID:America/Chicago
BEGIN:DAYLIGHT
TZOFFSETFROM:-0600
TZOFFSETTO:-0500
TZNAME:CDT
DTSTART:20250309T080000
END:DAYLIGHT
BEGIN:STANDARD
TZOFFSETFROM:-0500
TZOFFSETTO:-0600
TZNAME:CST
DTSTART:20251102T070000
END:STANDARD
BEGIN:DAYLIGHT
TZOFFSETFROM:-0600
TZOFFSETTO:-0500
TZNAME:CDT
DTSTART:20260308T080000
END:DAYLIGHT
BEGIN:STANDARD
TZOFFSETFROM:-0500
TZOFFSETTO:-0600
TZNAME:CST
DTSTART:20261101T070000
END:STANDARD
BEGIN:DAYLIGHT
TZOFFSETFROM:-0600
TZOFFSETTO:-0500
TZNAME:CDT
DTSTART:20270314T080000
END:DAYLIGHT
BEGIN:STANDARD
TZOFFSETFROM:-0500
TZOFFSETTO:-0600
TZNAME:CST
DTSTART:20271107T070000
END:STANDARD
END:VTIMEZONE
BEGIN:VEVENT
DTSTART;TZID=America/Chicago:20261102T150000
DTEND;TZID=America/Chicago:20261102T150000
DTSTAMP:20260420T171136
CREATED:20250724T195052Z
LAST-MODIFIED:20250724T195052Z
UID:10002242-1793631600-1793631600@www.lostkeygolf.com
SUMMARY:Ladies 9 & Wine
DESCRIPTION:
URL:https://www.lostkeygolf.com/event/ladies-9-wine/2026-11-02/
CATEGORIES:Golf Outings,Social Events
END:VEVENT
BEGIN:VEVENT
DTSTART;TZID=America/Chicago:20261103T160000
DTEND;TZID=America/Chicago:20261103T170000
DTSTAMP:20260420T171136
CREATED:20250724T195137Z
LAST-MODIFIED:20250724T195137Z
UID:10002503-1793721600-1793725200@www.lostkeygolf.com
SUMMARY:Ladies Teaching Clinic
DESCRIPTION:
URL:https://www.lostkeygolf.com/event/ladies-teaching-clinic/2026-11-03/
CATEGORIES:Golf Outings,Social Events
END:VEVENT
BEGIN:VEVENT
DTSTART;TZID=America/Chicago:20261109T150000
DTEND;TZID=America/Chicago:20261109T150000
DTSTAMP:20260420T171136
CREATED:20250724T195052Z
LAST-MODIFIED:20250724T195052Z
UID:10002243-1794236400-1794236400@www.lostkeygolf.com
SUMMARY:Ladies 9 & Wine
DESCRIPTION:
URL:https://www.lostkeygolf.com/event/ladies-9-wine/2026-11-09/
CATEGORIES:Golf Outings,Social Events
END:VEVENT
BEGIN:VEVENT
DTSTART;TZID=America/Chicago:20261110T160000
DTEND;TZID=America/Chicago:20261110T170000
DTSTAMP:20260420T171136
CREATED:20250724T195137Z
LAST-MODIFIED:20250724T195137Z
UID:10002504-1794326400-1794330000@www.lostkeygolf.com
SUMMARY:Ladies Teaching Clinic
DESCRIPTION:
URL:https://www.lostkeygolf.com/event/ladies-teaching-clinic/2026-11-10/
CATEGORIES:Golf Outings,Social Events
END:VEVENT
BEGIN:VEVENT
DTSTART;TZID=America/Chicago:20261116T150000
DTEND;TZID=America/Chicago:20261116T150000
DTSTAMP:20260420T171136
CREATED:20250724T195052Z
LAST-MODIFIED:20250724T195052Z
UID:10002244-1794841200-1794841200@www.lostkeygolf.com
SUMMARY:Ladies 9 & Wine
DESCRIPTION:
URL:https://www.lostkeygolf.com/event/ladies-9-wine/2026-11-16/
CATEGORIES:Golf Outings,Social Events
END:VEVENT
BEGIN:VEVENT
DTSTART;TZID=America/Chicago:20261117T160000
DTEND;TZID=America/Chicago:20261117T170000
DTSTAMP:20260420T171136
CREATED:20250724T195137Z
LAST-MODIFIED:20250724T195137Z
UID:10002505-1794931200-1794934800@www.lostkeygolf.com
SUMMARY:Ladies Teaching Clinic
DESCRIPTION:
URL:https://www.lostkeygolf.com/event/ladies-teaching-clinic/2026-11-17/
CATEGORIES:Golf Outings,Social Events
END:VEVENT
BEGIN:VEVENT
DTSTART;TZID=America/Chicago:20261123T150000
DTEND;TZID=America/Chicago:20261123T150000
DTSTAMP:20260420T171136
CREATED:20250724T195052Z
LAST-MODIFIED:20250724T195052Z
UID:10002245-1795446000-1795446000@www.lostkeygolf.com
SUMMARY:Ladies 9 & Wine
DESCRIPTION:
URL:https://www.lostkeygolf.com/event/ladies-9-wine/2026-11-23/
CATEGORIES:Golf Outings,Social Events
END:VEVENT
BEGIN:VEVENT
DTSTART;TZID=America/Chicago:20261124T160000
DTEND;TZID=America/Chicago:20261124T170000
DTSTAMP:20260420T171136
CREATED:20250724T195137Z
LAST-MODIFIED:20250724T195137Z
UID:10002506-1795536000-1795539600@www.lostkeygolf.com
SUMMARY:Ladies Teaching Clinic
DESCRIPTION:
URL:https://www.lostkeygolf.com/event/ladies-teaching-clinic/2026-11-24/
CATEGORIES:Golf Outings,Social Events
END:VEVENT
BEGIN:VEVENT
DTSTART;TZID=America/Chicago:20261130T150000
DTEND;TZID=America/Chicago:20261130T150000
DTSTAMP:20260420T171136
CREATED:20250724T195052Z
LAST-MODIFIED:20250724T195052Z
UID:10002246-1796050800-1796050800@www.lostkeygolf.com
SUMMARY:Ladies 9 & Wine
DESCRIPTION:
URL:https://www.lostkeygolf.com/event/ladies-9-wine/2026-11-30/
CATEGORIES:Golf Outings,Social Events
END:VEVENT
END:VCALENDAR