BEGIN:VCALENDAR
VERSION:2.0
PRODID:-//Lost Key Golf Club - ECPv6.15.18//NONSGML v1.0//EN
CALSCALE:GREGORIAN
METHOD:PUBLISH
X-WR-CALNAME:Lost Key Golf Club
X-ORIGINAL-URL:https://www.lostkeygolf.com
X-WR-CALDESC:Events for Lost Key Golf Club
REFRESH-INTERVAL;VALUE=DURATION:PT1H
X-Robots-Tag:noindex
X-PUBLISHED-TTL:PT1H
BEGIN:VTIMEZONE
TZID:America/Chicago
BEGIN:DAYLIGHT
TZOFFSETFROM:-0600
TZOFFSETTO:-0500
TZNAME:CDT
DTSTART:20260308T080000
END:DAYLIGHT
BEGIN:STANDARD
TZOFFSETFROM:-0500
TZOFFSETTO:-0600
TZNAME:CST
DTSTART:20261101T070000
END:STANDARD
BEGIN:DAYLIGHT
TZOFFSETFROM:-0600
TZOFFSETTO:-0500
TZNAME:CDT
DTSTART:20270314T080000
END:DAYLIGHT
BEGIN:STANDARD
TZOFFSETFROM:-0500
TZOFFSETTO:-0600
TZNAME:CST
DTSTART:20271107T070000
END:STANDARD
BEGIN:DAYLIGHT
TZOFFSETFROM:-0600
TZOFFSETTO:-0500
TZNAME:CDT
DTSTART:20280312T080000
END:DAYLIGHT
BEGIN:STANDARD
TZOFFSETFROM:-0500
TZOFFSETTO:-0600
TZNAME:CST
DTSTART:20281105T070000
END:STANDARD
END:VTIMEZONE
BEGIN:VEVENT
DTSTART;TZID=America/Chicago:20270104T150000
DTEND;TZID=America/Chicago:20270104T150000
DTSTAMP:20260420T184543
CREATED:20250724T195052Z
LAST-MODIFIED:20250724T195052Z
UID:10002251-1799074800-1799074800@www.lostkeygolf.com
SUMMARY:Ladies 9 & Wine
DESCRIPTION:
URL:https://www.lostkeygolf.com/event/ladies-9-wine/2027-01-04/
CATEGORIES:Golf Outings,Social Events
END:VEVENT
BEGIN:VEVENT
DTSTART;TZID=America/Chicago:20270105T160000
DTEND;TZID=America/Chicago:20270105T170000
DTSTAMP:20260420T184543
CREATED:20250724T195137Z
LAST-MODIFIED:20250724T195137Z
UID:10002512-1799164800-1799168400@www.lostkeygolf.com
SUMMARY:Ladies Teaching Clinic
DESCRIPTION:
URL:https://www.lostkeygolf.com/event/ladies-teaching-clinic/2027-01-05/
CATEGORIES:Golf Outings,Social Events
END:VEVENT
BEGIN:VEVENT
DTSTART;TZID=America/Chicago:20270111T150000
DTEND;TZID=America/Chicago:20270111T150000
DTSTAMP:20260420T184543
CREATED:20250724T195052Z
LAST-MODIFIED:20250724T195052Z
UID:10002252-1799679600-1799679600@www.lostkeygolf.com
SUMMARY:Ladies 9 & Wine
DESCRIPTION:
URL:https://www.lostkeygolf.com/event/ladies-9-wine/2027-01-11/
CATEGORIES:Golf Outings,Social Events
END:VEVENT
BEGIN:VEVENT
DTSTART;TZID=America/Chicago:20270112T160000
DTEND;TZID=America/Chicago:20270112T170000
DTSTAMP:20260420T184543
CREATED:20250724T195137Z
LAST-MODIFIED:20250724T195137Z
UID:10002513-1799769600-1799773200@www.lostkeygolf.com
SUMMARY:Ladies Teaching Clinic
DESCRIPTION:
URL:https://www.lostkeygolf.com/event/ladies-teaching-clinic/2027-01-12/
CATEGORIES:Golf Outings,Social Events
END:VEVENT
BEGIN:VEVENT
DTSTART;TZID=America/Chicago:20270118T150000
DTEND;TZID=America/Chicago:20270118T150000
DTSTAMP:20260420T184543
CREATED:20250724T195052Z
LAST-MODIFIED:20250724T195052Z
UID:10002253-1800284400-1800284400@www.lostkeygolf.com
SUMMARY:Ladies 9 & Wine
DESCRIPTION:
URL:https://www.lostkeygolf.com/event/ladies-9-wine/2027-01-18/
CATEGORIES:Golf Outings,Social Events
END:VEVENT
BEGIN:VEVENT
DTSTART;TZID=America/Chicago:20270119T160000
DTEND;TZID=America/Chicago:20270119T170000
DTSTAMP:20260420T184543
CREATED:20250724T195137Z
LAST-MODIFIED:20250724T195137Z
UID:10002514-1800374400-1800378000@www.lostkeygolf.com
SUMMARY:Ladies Teaching Clinic
DESCRIPTION:
URL:https://www.lostkeygolf.com/event/ladies-teaching-clinic/2027-01-19/
CATEGORIES:Golf Outings,Social Events
END:VEVENT
BEGIN:VEVENT
DTSTART;TZID=America/Chicago:20270125T150000
DTEND;TZID=America/Chicago:20270125T150000
DTSTAMP:20260420T184543
CREATED:20250724T195052Z
LAST-MODIFIED:20250724T195052Z
UID:10002254-1800889200-1800889200@www.lostkeygolf.com
SUMMARY:Ladies 9 & Wine
DESCRIPTION:
URL:https://www.lostkeygolf.com/event/ladies-9-wine/2027-01-25/
CATEGORIES:Golf Outings,Social Events
END:VEVENT
BEGIN:VEVENT
DTSTART;TZID=America/Chicago:20270126T160000
DTEND;TZID=America/Chicago:20270126T170000
DTSTAMP:20260420T184543
CREATED:20250724T195137Z
LAST-MODIFIED:20250724T195137Z
UID:10002515-1800979200-1800982800@www.lostkeygolf.com
SUMMARY:Ladies Teaching Clinic
DESCRIPTION:
URL:https://www.lostkeygolf.com/event/ladies-teaching-clinic/2027-01-26/
CATEGORIES:Golf Outings,Social Events
END:VEVENT
END:VCALENDAR