BEGIN:VCALENDAR
VERSION:2.0
PRODID:-//Lost Key Golf Club - ECPv6.15.18//NONSGML v1.0//EN
CALSCALE:GREGORIAN
METHOD:PUBLISH
X-ORIGINAL-URL:https://www.lostkeygolf.com
X-WR-CALDESC:Events for Lost Key Golf Club
REFRESH-INTERVAL;VALUE=DURATION:PT1H
X-Robots-Tag:noindex
X-PUBLISHED-TTL:PT1H
BEGIN:VTIMEZONE
TZID:America/Chicago
BEGIN:DAYLIGHT
TZOFFSETFROM:-0600
TZOFFSETTO:-0500
TZNAME:CDT
DTSTART:20260308T080000
END:DAYLIGHT
BEGIN:STANDARD
TZOFFSETFROM:-0500
TZOFFSETTO:-0600
TZNAME:CST
DTSTART:20261101T070000
END:STANDARD
BEGIN:DAYLIGHT
TZOFFSETFROM:-0600
TZOFFSETTO:-0500
TZNAME:CDT
DTSTART:20270314T080000
END:DAYLIGHT
BEGIN:STANDARD
TZOFFSETFROM:-0500
TZOFFSETTO:-0600
TZNAME:CST
DTSTART:20271107T070000
END:STANDARD
BEGIN:DAYLIGHT
TZOFFSETFROM:-0600
TZOFFSETTO:-0500
TZNAME:CDT
DTSTART:20280312T080000
END:DAYLIGHT
BEGIN:STANDARD
TZOFFSETFROM:-0500
TZOFFSETTO:-0600
TZNAME:CST
DTSTART:20281105T070000
END:STANDARD
END:VTIMEZONE
BEGIN:VEVENT
DTSTART;TZID=America/Chicago:20270405T150000
DTEND;TZID=America/Chicago:20270405T150000
DTSTAMP:20260425T092524
CREATED:20250724T195052Z
LAST-MODIFIED:20250724T195052Z
UID:10002264-1806937200-1806937200@www.lostkeygolf.com
SUMMARY:Ladies 9 & Wine
DESCRIPTION:
URL:https://www.lostkeygolf.com/event/ladies-9-wine/2027-04-05/
CATEGORIES:Golf Outings,Social Events
END:VEVENT
BEGIN:VEVENT
DTSTART;TZID=America/Chicago:20270406T160000
DTEND;TZID=America/Chicago:20270406T170000
DTSTAMP:20260425T092524
CREATED:20250724T195137Z
LAST-MODIFIED:20250724T195137Z
UID:10002525-1807027200-1807030800@www.lostkeygolf.com
SUMMARY:Ladies Teaching Clinic
DESCRIPTION:
URL:https://www.lostkeygolf.com/event/ladies-teaching-clinic/2027-04-06/
CATEGORIES:Golf Outings,Social Events
END:VEVENT
BEGIN:VEVENT
DTSTART;TZID=America/Chicago:20270412T150000
DTEND;TZID=America/Chicago:20270412T150000
DTSTAMP:20260425T092524
CREATED:20250724T195052Z
LAST-MODIFIED:20250724T195052Z
UID:10002265-1807542000-1807542000@www.lostkeygolf.com
SUMMARY:Ladies 9 & Wine
DESCRIPTION:
URL:https://www.lostkeygolf.com/event/ladies-9-wine/2027-04-12/
CATEGORIES:Golf Outings,Social Events
END:VEVENT
BEGIN:VEVENT
DTSTART;TZID=America/Chicago:20270413T160000
DTEND;TZID=America/Chicago:20270413T170000
DTSTAMP:20260425T092524
CREATED:20250724T195137Z
LAST-MODIFIED:20250724T195137Z
UID:10002526-1807632000-1807635600@www.lostkeygolf.com
SUMMARY:Ladies Teaching Clinic
DESCRIPTION:
URL:https://www.lostkeygolf.com/event/ladies-teaching-clinic/2027-04-13/
CATEGORIES:Golf Outings,Social Events
END:VEVENT
BEGIN:VEVENT
DTSTART;TZID=America/Chicago:20270419T150000
DTEND;TZID=America/Chicago:20270419T150000
DTSTAMP:20260425T092524
CREATED:20250724T195052Z
LAST-MODIFIED:20250724T195052Z
UID:10002266-1808146800-1808146800@www.lostkeygolf.com
SUMMARY:Ladies 9 & Wine
DESCRIPTION:
URL:https://www.lostkeygolf.com/event/ladies-9-wine/2027-04-19/
CATEGORIES:Golf Outings,Social Events
END:VEVENT
BEGIN:VEVENT
DTSTART;TZID=America/Chicago:20270420T160000
DTEND;TZID=America/Chicago:20270420T170000
DTSTAMP:20260425T092524
CREATED:20250724T195137Z
LAST-MODIFIED:20250724T195137Z
UID:10002527-1808236800-1808240400@www.lostkeygolf.com
SUMMARY:Ladies Teaching Clinic
DESCRIPTION:
URL:https://www.lostkeygolf.com/event/ladies-teaching-clinic/2027-04-20/
CATEGORIES:Golf Outings,Social Events
END:VEVENT
BEGIN:VEVENT
DTSTART;TZID=America/Chicago:20270426T150000
DTEND;TZID=America/Chicago:20270426T150000
DTSTAMP:20260425T092524
CREATED:20250724T195052Z
LAST-MODIFIED:20250724T195052Z
UID:10002267-1808751600-1808751600@www.lostkeygolf.com
SUMMARY:Ladies 9 & Wine
DESCRIPTION:
URL:https://www.lostkeygolf.com/event/ladies-9-wine/2027-04-26/
CATEGORIES:Golf Outings,Social Events
END:VEVENT
BEGIN:VEVENT
DTSTART;TZID=America/Chicago:20270427T160000
DTEND;TZID=America/Chicago:20270427T170000
DTSTAMP:20260425T092524
CREATED:20250724T195137Z
LAST-MODIFIED:20250724T195137Z
UID:10002528-1808841600-1808845200@www.lostkeygolf.com
SUMMARY:Ladies Teaching Clinic
DESCRIPTION:
URL:https://www.lostkeygolf.com/event/ladies-teaching-clinic/2027-04-27/
CATEGORIES:Golf Outings,Social Events
END:VEVENT
END:VCALENDAR