BEGIN:VCALENDAR
VERSION:2.0
PRODID:-//Lost Key Golf Club - ECPv6.15.18//NONSGML v1.0//EN
CALSCALE:GREGORIAN
METHOD:PUBLISH
X-WR-CALNAME:Lost Key Golf Club
X-ORIGINAL-URL:https://www.lostkeygolf.com
X-WR-CALDESC:Events for Lost Key Golf Club
REFRESH-INTERVAL;VALUE=DURATION:PT1H
X-Robots-Tag:noindex
X-PUBLISHED-TTL:PT1H
BEGIN:VTIMEZONE
TZID:America/Chicago
BEGIN:DAYLIGHT
TZOFFSETFROM:-0600
TZOFFSETTO:-0500
TZNAME:CDT
DTSTART:20260308T080000
END:DAYLIGHT
BEGIN:STANDARD
TZOFFSETFROM:-0500
TZOFFSETTO:-0600
TZNAME:CST
DTSTART:20261101T070000
END:STANDARD
BEGIN:DAYLIGHT
TZOFFSETFROM:-0600
TZOFFSETTO:-0500
TZNAME:CDT
DTSTART:20270314T080000
END:DAYLIGHT
BEGIN:STANDARD
TZOFFSETFROM:-0500
TZOFFSETTO:-0600
TZNAME:CST
DTSTART:20271107T070000
END:STANDARD
BEGIN:DAYLIGHT
TZOFFSETFROM:-0600
TZOFFSETTO:-0500
TZNAME:CDT
DTSTART:20280312T080000
END:DAYLIGHT
BEGIN:STANDARD
TZOFFSETFROM:-0500
TZOFFSETTO:-0600
TZNAME:CST
DTSTART:20281105T070000
END:STANDARD
END:VTIMEZONE
BEGIN:VEVENT
DTSTART;TZID=America/Chicago:20270503T150000
DTEND;TZID=America/Chicago:20270503T150000
DTSTAMP:20260425T153542
CREATED:20250724T195052Z
LAST-MODIFIED:20250724T195052Z
UID:10002268-1809356400-1809356400@www.lostkeygolf.com
SUMMARY:Ladies 9 & Wine
DESCRIPTION:
URL:https://www.lostkeygolf.com/event/ladies-9-wine/2027-05-03/
CATEGORIES:Golf Outings,Social Events
END:VEVENT
BEGIN:VEVENT
DTSTART;TZID=America/Chicago:20270504T160000
DTEND;TZID=America/Chicago:20270504T170000
DTSTAMP:20260425T153542
CREATED:20250724T195137Z
LAST-MODIFIED:20250724T195137Z
UID:10002529-1809446400-1809450000@www.lostkeygolf.com
SUMMARY:Ladies Teaching Clinic
DESCRIPTION:
URL:https://www.lostkeygolf.com/event/ladies-teaching-clinic/2027-05-04/
CATEGORIES:Golf Outings,Social Events
END:VEVENT
BEGIN:VEVENT
DTSTART;TZID=America/Chicago:20270510T150000
DTEND;TZID=America/Chicago:20270510T150000
DTSTAMP:20260425T153542
CREATED:20250724T195052Z
LAST-MODIFIED:20250724T195052Z
UID:10002269-1809961200-1809961200@www.lostkeygolf.com
SUMMARY:Ladies 9 & Wine
DESCRIPTION:
URL:https://www.lostkeygolf.com/event/ladies-9-wine/2027-05-10/
CATEGORIES:Golf Outings,Social Events
END:VEVENT
BEGIN:VEVENT
DTSTART;TZID=America/Chicago:20270511T160000
DTEND;TZID=America/Chicago:20270511T170000
DTSTAMP:20260425T153542
CREATED:20250724T195137Z
LAST-MODIFIED:20250724T195137Z
UID:10002530-1810051200-1810054800@www.lostkeygolf.com
SUMMARY:Ladies Teaching Clinic
DESCRIPTION:
URL:https://www.lostkeygolf.com/event/ladies-teaching-clinic/2027-05-11/
CATEGORIES:Golf Outings,Social Events
END:VEVENT
BEGIN:VEVENT
DTSTART;TZID=America/Chicago:20270517T150000
DTEND;TZID=America/Chicago:20270517T150000
DTSTAMP:20260425T153542
CREATED:20250724T195052Z
LAST-MODIFIED:20250724T195052Z
UID:10002270-1810566000-1810566000@www.lostkeygolf.com
SUMMARY:Ladies 9 & Wine
DESCRIPTION:
URL:https://www.lostkeygolf.com/event/ladies-9-wine/2027-05-17/
CATEGORIES:Golf Outings,Social Events
END:VEVENT
BEGIN:VEVENT
DTSTART;TZID=America/Chicago:20270518T160000
DTEND;TZID=America/Chicago:20270518T170000
DTSTAMP:20260425T153542
CREATED:20250724T195137Z
LAST-MODIFIED:20250724T195137Z
UID:10002531-1810656000-1810659600@www.lostkeygolf.com
SUMMARY:Ladies Teaching Clinic
DESCRIPTION:
URL:https://www.lostkeygolf.com/event/ladies-teaching-clinic/2027-05-18/
CATEGORIES:Golf Outings,Social Events
END:VEVENT
BEGIN:VEVENT
DTSTART;TZID=America/Chicago:20270524T150000
DTEND;TZID=America/Chicago:20270524T150000
DTSTAMP:20260425T153542
CREATED:20250724T195052Z
LAST-MODIFIED:20250724T195052Z
UID:10002271-1811170800-1811170800@www.lostkeygolf.com
SUMMARY:Ladies 9 & Wine
DESCRIPTION:
URL:https://www.lostkeygolf.com/event/ladies-9-wine/2027-05-24/
CATEGORIES:Golf Outings,Social Events
END:VEVENT
BEGIN:VEVENT
DTSTART;TZID=America/Chicago:20270525T160000
DTEND;TZID=America/Chicago:20270525T170000
DTSTAMP:20260425T153542
CREATED:20250724T195137Z
LAST-MODIFIED:20250724T195137Z
UID:10002532-1811260800-1811264400@www.lostkeygolf.com
SUMMARY:Ladies Teaching Clinic
DESCRIPTION:
URL:https://www.lostkeygolf.com/event/ladies-teaching-clinic/2027-05-25/
CATEGORIES:Golf Outings,Social Events
END:VEVENT
BEGIN:VEVENT
DTSTART;TZID=America/Chicago:20270531T150000
DTEND;TZID=America/Chicago:20270531T150000
DTSTAMP:20260425T153542
CREATED:20250724T195052Z
LAST-MODIFIED:20250724T195052Z
UID:10002272-1811775600-1811775600@www.lostkeygolf.com
SUMMARY:Ladies 9 & Wine
DESCRIPTION:
URL:https://www.lostkeygolf.com/event/ladies-9-wine/2027-05-31/
CATEGORIES:Golf Outings,Social Events
END:VEVENT
END:VCALENDAR