BEGIN:VCALENDAR
VERSION:2.0
PRODID:-//Lost Key Golf Club - ECPv6.15.18//NONSGML v1.0//EN
CALSCALE:GREGORIAN
METHOD:PUBLISH
X-WR-CALNAME:Lost Key Golf Club
X-ORIGINAL-URL:https://www.lostkeygolf.com
X-WR-CALDESC:Events for Lost Key Golf Club
REFRESH-INTERVAL;VALUE=DURATION:PT1H
X-Robots-Tag:noindex
X-PUBLISHED-TTL:PT1H
BEGIN:VTIMEZONE
TZID:America/Chicago
BEGIN:DAYLIGHT
TZOFFSETFROM:-0600
TZOFFSETTO:-0500
TZNAME:CDT
DTSTART:20260308T080000
END:DAYLIGHT
BEGIN:STANDARD
TZOFFSETFROM:-0500
TZOFFSETTO:-0600
TZNAME:CST
DTSTART:20261101T070000
END:STANDARD
BEGIN:DAYLIGHT
TZOFFSETFROM:-0600
TZOFFSETTO:-0500
TZNAME:CDT
DTSTART:20270314T080000
END:DAYLIGHT
BEGIN:STANDARD
TZOFFSETFROM:-0500
TZOFFSETTO:-0600
TZNAME:CST
DTSTART:20271107T070000
END:STANDARD
BEGIN:DAYLIGHT
TZOFFSETFROM:-0600
TZOFFSETTO:-0500
TZNAME:CDT
DTSTART:20280312T080000
END:DAYLIGHT
BEGIN:STANDARD
TZOFFSETFROM:-0500
TZOFFSETTO:-0600
TZNAME:CST
DTSTART:20281105T070000
END:STANDARD
END:VTIMEZONE
BEGIN:VEVENT
DTSTART;TZID=America/Chicago:20270705T150000
DTEND;TZID=America/Chicago:20270705T150000
DTSTAMP:20260425T171832
CREATED:20250724T195052Z
LAST-MODIFIED:20250724T195052Z
UID:10002277-1814799600-1814799600@www.lostkeygolf.com
SUMMARY:Ladies 9 & Wine
DESCRIPTION:
URL:https://www.lostkeygolf.com/event/ladies-9-wine/2027-07-05/
CATEGORIES:Golf Outings,Social Events
END:VEVENT
BEGIN:VEVENT
DTSTART;TZID=America/Chicago:20270706T160000
DTEND;TZID=America/Chicago:20270706T170000
DTSTAMP:20260425T171832
CREATED:20250724T195137Z
LAST-MODIFIED:20250724T195137Z
UID:10002538-1814889600-1814893200@www.lostkeygolf.com
SUMMARY:Ladies Teaching Clinic
DESCRIPTION:
URL:https://www.lostkeygolf.com/event/ladies-teaching-clinic/2027-07-06/
CATEGORIES:Golf Outings,Social Events
END:VEVENT
BEGIN:VEVENT
DTSTART;TZID=America/Chicago:20270712T150000
DTEND;TZID=America/Chicago:20270712T150000
DTSTAMP:20260425T171832
CREATED:20250724T195052Z
LAST-MODIFIED:20250724T195052Z
UID:10002278-1815404400-1815404400@www.lostkeygolf.com
SUMMARY:Ladies 9 & Wine
DESCRIPTION:
URL:https://www.lostkeygolf.com/event/ladies-9-wine/2027-07-12/
CATEGORIES:Golf Outings,Social Events
END:VEVENT
BEGIN:VEVENT
DTSTART;TZID=America/Chicago:20270713T160000
DTEND;TZID=America/Chicago:20270713T170000
DTSTAMP:20260425T171832
CREATED:20250724T195137Z
LAST-MODIFIED:20250724T195137Z
UID:10002539-1815494400-1815498000@www.lostkeygolf.com
SUMMARY:Ladies Teaching Clinic
DESCRIPTION:
URL:https://www.lostkeygolf.com/event/ladies-teaching-clinic/2027-07-13/
CATEGORIES:Golf Outings,Social Events
END:VEVENT
BEGIN:VEVENT
DTSTART;TZID=America/Chicago:20270719T150000
DTEND;TZID=America/Chicago:20270719T150000
DTSTAMP:20260425T171832
CREATED:20250724T195052Z
LAST-MODIFIED:20250724T195052Z
UID:10002279-1816009200-1816009200@www.lostkeygolf.com
SUMMARY:Ladies 9 & Wine
DESCRIPTION:
URL:https://www.lostkeygolf.com/event/ladies-9-wine/2027-07-19/
CATEGORIES:Golf Outings,Social Events
END:VEVENT
BEGIN:VEVENT
DTSTART;TZID=America/Chicago:20270720T160000
DTEND;TZID=America/Chicago:20270720T170000
DTSTAMP:20260425T171832
CREATED:20250724T195137Z
LAST-MODIFIED:20250724T195137Z
UID:10002540-1816099200-1816102800@www.lostkeygolf.com
SUMMARY:Ladies Teaching Clinic
DESCRIPTION:
URL:https://www.lostkeygolf.com/event/ladies-teaching-clinic/2027-07-20/
CATEGORIES:Golf Outings,Social Events
END:VEVENT
BEGIN:VEVENT
DTSTART;TZID=America/Chicago:20270726T150000
DTEND;TZID=America/Chicago:20270726T150000
DTSTAMP:20260425T171832
CREATED:20250724T195052Z
LAST-MODIFIED:20250724T195052Z
UID:10002280-1816614000-1816614000@www.lostkeygolf.com
SUMMARY:Ladies 9 & Wine
DESCRIPTION:
URL:https://www.lostkeygolf.com/event/ladies-9-wine/2027-07-26/
CATEGORIES:Golf Outings,Social Events
END:VEVENT
BEGIN:VEVENT
DTSTART;TZID=America/Chicago:20270727T160000
DTEND;TZID=America/Chicago:20270727T170000
DTSTAMP:20260425T171832
CREATED:20250724T195137Z
LAST-MODIFIED:20250724T195137Z
UID:10002541-1816704000-1816707600@www.lostkeygolf.com
SUMMARY:Ladies Teaching Clinic
DESCRIPTION:
URL:https://www.lostkeygolf.com/event/ladies-teaching-clinic/2027-07-27/
CATEGORIES:Golf Outings,Social Events
END:VEVENT
END:VCALENDAR